Package: pqsfinder Version: 2.25.0 Command: /home/biocbuild/bbs-3.22-bioc/R/bin/R CMD INSTALL pqsfinder StartedAt: 2025-10-28 15:14:40 -0400 (Tue, 28 Oct 2025) EndedAt: 2025-10-28 15:15:22 -0400 (Tue, 28 Oct 2025) EllapsedTime: 41.4 seconds RetCode: 0 Status: OK