Package: pqsfinder Version: 2.25.0 Command: /home/biocbuild/bbs-3.22-bioc/R/bin/R CMD build --keep-empty-dirs --no-resave-data --md5 pqsfinder StartedAt: 2025-10-28 19:20:20 -0400 (Tue, 28 Oct 2025) EndedAt: 2025-10-28 19:22:22 -0400 (Tue, 28 Oct 2025) EllapsedTime: 122.1 seconds RetCode: 0 Status: OK PackageFile: pqsfinder_2.25.0.tar.gz PackageFileSize: 373.1 KiB