Package: pqsfinder Version: 2.23.0 Command: /Library/Frameworks/R.framework/Resources/bin/R CMD INSTALL pqsfinder StartedAt: 2025-02-03 15:14:36 -0500 (Mon, 03 Feb 2025) EndedAt: 2025-02-03 15:15:23 -0500 (Mon, 03 Feb 2025) EllapsedTime: 47.4 seconds RetCode: 0 Status: OK