Package: pqsfinder Version: 2.23.0 Command: /home/biocbuild/R/R/bin/R CMD check --install=check:pqsfinder.install-out.txt --library=/home/biocbuild/R/R/site-library --no-vignettes --timings pqsfinder_2.23.0.tar.gz StartedAt: 2025-01-28 14:00:38 -0000 (Tue, 28 Jan 2025) EndedAt: 2025-01-28 14:03:40 -0000 (Tue, 28 Jan 2025) EllapsedTime: 182.1 seconds RetCode: 0 Status: WARNINGS CheckDir: pqsfinder.Rcheck Warnings: 1