Package: pqsfinder Version: 2.25.0 Command: /Library/Frameworks/R.framework/Resources/bin/R CMD check --install=check:pqsfinder.install-out.txt --library=/Library/Frameworks/R.framework/Resources/library --no-vignettes --timings pqsfinder_2.25.0.tar.gz StartedAt: 2025-04-30 21:00:37 -0400 (Wed, 30 Apr 2025) EndedAt: 2025-04-30 21:01:53 -0400 (Wed, 30 Apr 2025) EllapsedTime: 76.0 seconds RetCode: 0 Status: WARNINGS CheckDir: pqsfinder.Rcheck Warnings: 1