Package: pqsfinder Version: 2.25.0 Command: rm -rf pqsfinder.buildbin-libdir && mkdir pqsfinder.buildbin-libdir && /Users/biocbuild/BBS/utils/build-universal.sh pqsfinder_2.25.0.tar.gz /Library/Frameworks/R.framework/Resources/bin/R pqsfinder.buildbin-libdir StartedAt: 2025-04-30 22:46:09 -0400 (Wed, 30 Apr 2025) EndedAt: 2025-04-30 22:46:23 -0400 (Wed, 30 Apr 2025) EllapsedTime: 14.3 seconds RetCode: 0 Status: OK PackageFile: pqsfinder_2.25.0.tgz PackageFileSize: 1.516 MiB