Package: ppcseq Version: 1.17.0 Command: /home/biocbuild/R/R/bin/R CMD build --keep-empty-dirs --no-resave-data ppcseq StartedAt: 2025-10-10 03:05:41 -0000 (Fri, 10 Oct 2025) EndedAt: 2025-10-10 03:09:33 -0000 (Fri, 10 Oct 2025) EllapsedTime: 232.3 seconds RetCode: 1 Status: ERROR PackageFile: None PackageFileSize: NA