Package: ppcseq Version: 1.15.0 Command: chmod a+r ppcseq -R && E:\biocbuild\bbs-3.21-bioc\R\bin\R.exe CMD build --keep-empty-dirs --no-resave-data ppcseq StartedAt: 2025-02-03 21:03:53 -0500 (Mon, 03 Feb 2025) EndedAt: 2025-02-03 21:09:35 -0500 (Mon, 03 Feb 2025) EllapsedTime: 341.9 seconds RetCode: 0 Status: OK PackageFile: ppcseq_1.15.0.tar.gz PackageFileSize: 1.939 MiB