Package: ppcseq Version: 1.15.0 Command: /home/biocbuild/R/R/bin/R CMD check --install=check:ppcseq.install-out.txt --library=/home/biocbuild/R/R/site-library --no-vignettes --timings ppcseq_1.15.0.tar.gz StartedAt: 2025-01-24 11:20:50 -0000 (Fri, 24 Jan 2025) EndedAt: 2025-01-24 11:26:24 -0000 (Fri, 24 Jan 2025) EllapsedTime: 334.2 seconds RetCode: 0 Status: WARNINGS CheckDir: ppcseq.Rcheck Warnings: 1