Package: pogos Version: 1.29.0 Command: /home/biocbuild/R/R/bin/R CMD INSTALL pogos StartedAt: 2025-10-02 21:03:00 -0000 (Thu, 02 Oct 2025) EndedAt: 2025-10-02 21:03:44 -0000 (Thu, 02 Oct 2025) EllapsedTime: 43.6 seconds RetCode: 0 Status: OK