Package: pogos Version: 1.29.0 Command: F:\biocbuild\bbs-3.22-bioc\R\bin\R.exe CMD INSTALL pogos StartedAt: 2025-08-14 16:30:43 -0400 (Thu, 14 Aug 2025) EndedAt: 2025-08-14 16:31:30 -0400 (Thu, 14 Aug 2025) EllapsedTime: 46.5 seconds RetCode: 0 Status: OK