Package: pogos Version: 1.29.0 Maintainer: VJ Carey MaintainerEmail: stvjc at channing.harvard.edu git_url: https://git.bioconductor.org/packages/pogos git_branch: devel git_last_commit: c306483 git_last_commit_date: 2025-04-15 11:17:21 -0400 (Tue, 15 Apr 2025)