Package: podkat Version: 1.39.0 Command: /home/biocbuild/R/R/bin/R CMD build --keep-empty-dirs --no-resave-data podkat StartedAt: 2025-01-11 01:29:26 -0000 (Sat, 11 Jan 2025) EndedAt: 2025-01-11 01:32:47 -0000 (Sat, 11 Jan 2025) EllapsedTime: 201.1 seconds RetCode: 0 Status: OK PackageFile: podkat_1.39.0.tar.gz PackageFileSize: 1.08 MiB