Package: pmp Version: 1.21.0 Command: /Library/Frameworks/R.framework/Resources/bin/R CMD check --install=check:pmp.install-out.txt --library=/Library/Frameworks/R.framework/Resources/library --no-vignettes --timings pmp_1.21.0.tar.gz StartedAt: 2025-05-02 21:01:15 -0400 (Fri, 02 May 2025) EndedAt: 2025-05-02 21:02:39 -0400 (Fri, 02 May 2025) EllapsedTime: 84.0 seconds RetCode: 1 Status: ERROR CheckDir: pmp.Rcheck Warnings: NA