Package: plyxp Version: 1.1.0 Command: E:\biocbuild\bbs-3.21-bioc\R\bin\R.exe CMD INSTALL plyxp StartedAt: 2025-02-03 16:20:55 -0500 (Mon, 03 Feb 2025) EndedAt: 2025-02-03 16:22:28 -0500 (Mon, 03 Feb 2025) EllapsedTime: 92.9 seconds RetCode: 0 Status: OK