Package: plyxp Version: 1.1.0 Command: rm -rf plyxp.buildbin-libdir && mkdir plyxp.buildbin-libdir && E:\biocbuild\bbs-3.21-bioc\R\bin\R.exe CMD INSTALL --build --library=plyxp.buildbin-libdir plyxp_1.1.0.tar.gz StartedAt: 2024-12-17 07:44:47 -0500 (Tue, 17 Dec 2024) EndedAt: 2024-12-17 07:45:44 -0500 (Tue, 17 Dec 2024) EllapsedTime: 57.0 seconds RetCode: 0 Status: OK PackageFile: plyxp_1.1.0.zip PackageFileSize: 1.662 MiB