Package: plyxp Version: 1.3.9 Command: /home/biocbuild/bbs-3.22-bioc/R/bin/R CMD build --keep-empty-dirs --no-resave-data --md5 plyxp StartedAt: 2025-10-10 19:30:32 -0400 (Fri, 10 Oct 2025) EndedAt: 2025-10-10 19:31:14 -0400 (Fri, 10 Oct 2025) EllapsedTime: 42.0 seconds RetCode: 0 Status: OK PackageFile: plyxp_1.3.9.tar.gz PackageFileSize: 1.182 MiB