Package: plyxp Version: 1.1.0 Command: /home/biocbuild/bbs-3.21-bioc/R/bin/R CMD check --install=check:plyxp.install-out.txt --library=/home/biocbuild/bbs-3.21-bioc/R/site-library --timings plyxp_1.1.0.tar.gz StartedAt: 2024-12-18 04:19:53 -0500 (Wed, 18 Dec 2024) EndedAt: 2024-12-18 04:26:27 -0500 (Wed, 18 Dec 2024) EllapsedTime: 394.3 seconds RetCode: 0 Status: OK CheckDir: plyxp.Rcheck Warnings: 0