Package: plyxp Version: 1.1.0 Command: /home/biocbuild/R/R/bin/R CMD check --install=check:plyxp.install-out.txt --library=/home/biocbuild/R/R/site-library --no-vignettes --timings plyxp_1.1.0.tar.gz StartedAt: 2024-12-13 12:40:12 -0000 (Fri, 13 Dec 2024) EndedAt: 2024-12-13 12:44:11 -0000 (Fri, 13 Dec 2024) EllapsedTime: 238.5 seconds RetCode: 0 Status: OK CheckDir: plyxp.Rcheck Warnings: 0