Package: plyxp Version: 1.1.0 Command: /Library/Frameworks/R.framework/Resources/bin/R CMD INSTALL plyxp StartedAt: 2025-02-03 15:39:39 -0500 (Mon, 03 Feb 2025) EndedAt: 2025-02-03 15:39:52 -0500 (Mon, 03 Feb 2025) EllapsedTime: 12.8 seconds RetCode: 0 Status: OK