Package: plyinteractions Version: 1.7.1 Command: /home/biocbuild/R/R/bin/R CMD build --keep-empty-dirs --no-resave-data plyinteractions StartedAt: 2025-10-07 01:56:22 -0000 (Tue, 07 Oct 2025) EndedAt: 2025-10-07 01:59:24 -0000 (Tue, 07 Oct 2025) EllapsedTime: 182.1 seconds RetCode: 1 Status: ERROR PackageFile: None PackageFileSize: NA