Package: plyinteractions Version: 1.7.1 Command: chmod a+r plyinteractions -R && F:\biocbuild\bbs-3.22-bioc\R\bin\R.exe CMD build --keep-empty-dirs --no-resave-data plyinteractions StartedAt: 2025-08-14 22:22:30 -0400 (Thu, 14 Aug 2025) EndedAt: 2025-08-14 22:35:22 -0400 (Thu, 14 Aug 2025) EllapsedTime: 772.2 seconds RetCode: 0 Status: OK PackageFile: plyinteractions_1.7.1.tar.gz PackageFileSize: 3.484 MiB