Package: plyinteractions Version: 1.7.0 Command: /Library/Frameworks/R.framework/Resources/bin/R CMD build --keep-empty-dirs --no-resave-data plyinteractions StartedAt: 2025-05-22 17:10:05 -0400 (Thu, 22 May 2025) EndedAt: 2025-05-22 17:12:42 -0400 (Thu, 22 May 2025) EllapsedTime: 156.8 seconds RetCode: 0 Status: OK PackageFile: plyinteractions_1.7.0.tar.gz PackageFileSize: 3.749 MiB