Package: plyinteractions Version: 1.7.0 Command: rm -rf plyinteractions.buildbin-libdir && mkdir plyinteractions.buildbin-libdir && /Users/biocbuild/BBS/utils/build-universal.sh plyinteractions_1.7.0.tar.gz /Library/Frameworks/R.framework/Resources/bin/R plyinteractions.buildbin-libdir StartedAt: 2025-05-22 22:55:45 -0400 (Thu, 22 May 2025) EndedAt: 2025-05-22 22:56:01 -0400 (Thu, 22 May 2025) EllapsedTime: 16.3 seconds RetCode: 0 Status: OK PackageFile: plyinteractions_1.7.0.tgz PackageFileSize: 4.172 MiB