Package: plotgardener Version: 1.15.1 Command: rm -rf plotgardener.buildbin-libdir && mkdir plotgardener.buildbin-libdir && /Users/biocbuild/BBS/utils/build-universal.sh plotgardener_1.15.1.tar.gz /Library/Frameworks/R.framework/Resources/bin/R plotgardener.buildbin-libdir StartedAt: 2025-05-16 00:44:53 -0400 (Fri, 16 May 2025) EndedAt: 2025-05-16 00:46:03 -0400 (Fri, 16 May 2025) EllapsedTime: 69.2 seconds RetCode: 0 Status: OK PackageFile: plotgardener_1.15.1.tgz PackageFileSize: 3.632 MiB