Package: plotGrouper Version: 1.27.0 Command: /home/biocbuild/bbs-3.22-bioc/R/bin/R CMD check --install=check:plotGrouper.install-out.txt --library=/home/biocbuild/bbs-3.22-bioc/R/site-library --timings plotGrouper_1.27.0.tar.gz StartedAt: 2025-10-23 03:17:13 -0400 (Thu, 23 Oct 2025) EndedAt: 2025-10-23 03:18:05 -0400 (Thu, 23 Oct 2025) EllapsedTime: 52.1 seconds RetCode: 0 Status: OK CheckDir: plotGrouper.Rcheck Warnings: 0