Package: plotGrouper Version: 1.27.0 Command: /Library/Frameworks/R.framework/Resources/bin/R CMD build --keep-empty-dirs --no-resave-data plotGrouper StartedAt: 2025-05-16 17:09:59 -0400 (Fri, 16 May 2025) EndedAt: 2025-05-16 17:10:03 -0400 (Fri, 16 May 2025) EllapsedTime: 4.1 seconds RetCode: 0 Status: OK PackageFile: plotGrouper_1.27.0.tar.gz PackageFileSize: 704.6 KiB