Package: plier Version: 1.79.0 Command: chmod a+r plier -R && F:\biocbuild\bbs-3.22-bioc\R\bin\R.exe CMD build --keep-empty-dirs --no-resave-data plier StartedAt: 2025-08-14 22:22:06 -0400 (Thu, 14 Aug 2025) EndedAt: 2025-08-14 22:22:08 -0400 (Thu, 14 Aug 2025) EllapsedTime: 2.0 seconds RetCode: 0 Status: OK PackageFile: plier_1.79.0.tar.gz PackageFileSize: 20.32 KiB