Package: plgem Version: 1.81.0 Command: chmod a+r plgem -R && F:\biocbuild\bbs-3.22-bioc\R\bin\R.exe CMD build --keep-empty-dirs --no-resave-data plgem StartedAt: 2025-08-14 22:21:49 -0400 (Thu, 14 Aug 2025) EndedAt: 2025-08-14 22:22:18 -0400 (Thu, 14 Aug 2025) EllapsedTime: 28.8 seconds RetCode: 0 Status: OK PackageFile: plgem_1.81.0.tar.gz PackageFileSize: 920.5 KiB