Package: plgem Version: 1.79.0 Command: rm -rf plgem.buildbin-libdir && mkdir plgem.buildbin-libdir && E:\biocbuild\bbs-3.21-bioc\R\bin\R.exe CMD INSTALL --build --library=plgem.buildbin-libdir plgem_1.79.0.tar.gz StartedAt: 2025-01-11 08:17:29 -0500 (Sat, 11 Jan 2025) EndedAt: 2025-01-11 08:17:38 -0500 (Sat, 11 Jan 2025) EllapsedTime: 9.0 seconds RetCode: 0 Status: OK PackageFile: plgem_1.79.0.zip PackageFileSize: 1006 KiB