Package: plgem Version: 1.81.0 Command: /home/biocbuild/bbs-3.22-bioc/R/bin/R CMD INSTALL plgem StartedAt: 2025-10-01 15:45:11 -0400 (Wed, 01 Oct 2025) EndedAt: 2025-10-01 15:45:15 -0400 (Wed, 01 Oct 2025) EllapsedTime: 3.6 seconds RetCode: 0 Status: OK