Package: plgem Version: 1.81.0 Command: /Library/Frameworks/R.framework/Resources/bin/R CMD INSTALL plgem StartedAt: 2025-05-01 15:13:29 -0400 (Thu, 01 May 2025) EndedAt: 2025-05-01 15:13:44 -0400 (Thu, 01 May 2025) EllapsedTime: 15.1 seconds RetCode: 0 Status: OK