Package: plgem Version: 1.79.0 Command: /Library/Frameworks/R.framework/Resources/bin/R CMD build --keep-empty-dirs --no-resave-data plgem StartedAt: 2025-01-23 16:32:38 -0500 (Thu, 23 Jan 2025) EndedAt: 2025-01-23 16:32:45 -0500 (Thu, 23 Jan 2025) EllapsedTime: 7.1 seconds RetCode: 0 Status: OK PackageFile: plgem_1.79.0.tar.gz PackageFileSize: 1.037 MiB