Package: plasmut Version: 1.7.0 Command: /Library/Frameworks/R.framework/Resources/bin/R CMD check --install=check:plasmut.install-out.txt --library=/Library/Frameworks/R.framework/Resources/library --no-vignettes --timings plasmut_1.7.0.tar.gz StartedAt: 2025-05-06 22:37:02 -0400 (Tue, 06 May 2025) EndedAt: 2025-05-06 22:37:42 -0400 (Tue, 06 May 2025) EllapsedTime: 40.5 seconds RetCode: 0 Status: OK CheckDir: plasmut.Rcheck Warnings: 0