Package: plasmut Version: 1.7.0 Command: /Library/Frameworks/R.framework/Resources/bin/R CMD build --keep-empty-dirs --no-resave-data plasmut StartedAt: 2025-05-06 17:55:20 -0400 (Tue, 06 May 2025) EndedAt: 2025-05-06 17:57:39 -0400 (Tue, 06 May 2025) EllapsedTime: 138.2 seconds RetCode: 0 Status: OK PackageFile: plasmut_1.7.0.tar.gz PackageFileSize: 342.9 KiB