Package: planttfhunter Version: 1.9.0 Command: /Library/Frameworks/R.framework/Resources/bin/R CMD INSTALL planttfhunter StartedAt: 2025-05-15 15:50:04 -0400 (Thu, 15 May 2025) EndedAt: 2025-05-15 15:50:37 -0400 (Thu, 15 May 2025) EllapsedTime: 33.5 seconds RetCode: 0 Status: OK