Package: planttfhunter Version: 1.9.0 Command: /Library/Frameworks/R.framework/Resources/bin/R CMD check --install=check:planttfhunter.install-out.txt --library=/Library/Frameworks/R.framework/Resources/library --no-vignettes --timings planttfhunter_1.9.0.tar.gz StartedAt: 2025-05-20 20:37:22 -0400 (Tue, 20 May 2025) EndedAt: 2025-05-20 20:38:28 -0400 (Tue, 20 May 2025) EllapsedTime: 65.8 seconds RetCode: 0 Status: OK CheckDir: planttfhunter.Rcheck Warnings: 0