Package: planttfhunter Version: 1.9.0 Command: rm -rf planttfhunter.buildbin-libdir && mkdir planttfhunter.buildbin-libdir && /Users/biocbuild/BBS/utils/build-universal.sh planttfhunter_1.9.0.tar.gz /Library/Frameworks/R.framework/Resources/bin/R planttfhunter.buildbin-libdir StartedAt: 2025-05-20 22:18:03 -0400 (Tue, 20 May 2025) EndedAt: 2025-05-20 22:18:15 -0400 (Tue, 20 May 2025) EllapsedTime: 11.3 seconds RetCode: 0 Status: OK PackageFile: planttfhunter_1.9.0.tgz PackageFileSize: 1.003 MiB