Package: planet Version: 1.17.0 Command: /Library/Frameworks/R.framework/Resources/bin/R CMD build --keep-empty-dirs --no-resave-data planet StartedAt: 2025-05-04 17:55:36 -0400 (Sun, 04 May 2025) EndedAt: 2025-05-04 17:56:35 -0400 (Sun, 04 May 2025) EllapsedTime: 59.5 seconds RetCode: 0 Status: OK PackageFile: planet_1.17.0.tar.gz PackageFileSize: 2.859 MiB