Package: planet Version: 1.17.0 Command: rm -rf planet.buildbin-libdir && mkdir planet.buildbin-libdir && /Users/biocbuild/BBS/utils/build-universal.sh planet_1.17.0.tar.gz /Library/Frameworks/R.framework/Resources/bin/R planet.buildbin-libdir StartedAt: 2025-05-05 01:01:59 -0400 (Mon, 05 May 2025) EndedAt: 2025-05-05 01:02:08 -0400 (Mon, 05 May 2025) EllapsedTime: 9.2 seconds RetCode: 0 Status: OK PackageFile: planet_1.17.0.tgz PackageFileSize: 2.925 MiB