Package: pipeFrame Version: 1.25.0 Maintainer: Zheng Wei MaintainerEmail: wzweizheng at qq.com git_url: https://git.bioconductor.org/packages/pipeFrame git_branch: devel git_last_commit: 3215af9 git_last_commit_date: 2025-04-15 11:44:07 -0400 (Tue, 15 Apr 2025)