Package: pickgene Version: 1.81.0 Command: /Library/Frameworks/R.framework/Resources/bin/R CMD INSTALL pickgene StartedAt: 2025-05-06 15:03:46 -0400 (Tue, 06 May 2025) EndedAt: 2025-05-06 15:04:22 -0400 (Tue, 06 May 2025) EllapsedTime: 35.8 seconds RetCode: 0 Status: OK