Package: pickgene Version: 1.81.0 Command: /Library/Frameworks/R.framework/Resources/bin/R CMD check --install=check:pickgene.install-out.txt --library=/Library/Frameworks/R.framework/Resources/library --no-vignettes --timings pickgene_1.81.0.tar.gz StartedAt: 2025-05-07 22:35:56 -0400 (Wed, 07 May 2025) EndedAt: 2025-05-07 22:36:28 -0400 (Wed, 07 May 2025) EllapsedTime: 32.0 seconds RetCode: 0 Status: WARNINGS CheckDir: pickgene.Rcheck Warnings: 1