Package: pickgene Version: 1.81.0 Command: rm -rf pickgene.buildbin-libdir && mkdir pickgene.buildbin-libdir && /Users/biocbuild/BBS/utils/build-universal.sh pickgene_1.81.0.tar.gz /Library/Frameworks/R.framework/Resources/bin/R pickgene.buildbin-libdir StartedAt: 2025-05-08 00:58:07 -0400 (Thu, 08 May 2025) EndedAt: 2025-05-08 00:58:14 -0400 (Thu, 08 May 2025) EllapsedTime: 6.9 seconds RetCode: 0 Status: OK PackageFile: pickgene_1.81.0.tgz PackageFileSize: 398.6 KiB