Package: pickgene Version: 1.81.0 Command: /Library/Frameworks/R.framework/Resources/bin/R CMD INSTALL pickgene StartedAt: 2025-05-08 15:01:22 -0400 (Thu, 08 May 2025) EndedAt: 2025-05-08 15:01:23 -0400 (Thu, 08 May 2025) EllapsedTime: 1.2 seconds RetCode: 0 Status: OK