Package: pickgene Version: 1.81.0 Command: rm -rf pickgene.buildbin-libdir && mkdir pickgene.buildbin-libdir && /Users/biocbuild/BBS/utils/build-universal.sh pickgene_1.81.0.tar.gz /Library/Frameworks/R.framework/Resources/bin/R pickgene.buildbin-libdir StartedAt: 2025-05-09 22:51:26 -0400 (Fri, 09 May 2025) EndedAt: 2025-05-09 22:51:28 -0400 (Fri, 09 May 2025) EllapsedTime: 2.0 seconds RetCode: 0 Status: OK PackageFile: pickgene_1.81.0.tgz PackageFileSize: 399.1 KiB