Package: piano Version: 2.23.0 Command: E:\biocbuild\bbs-3.21-bioc\R\bin\R.exe CMD check --no-multiarch --install=check:piano.install-out.txt --library=E:\biocbuild\bbs-3.21-bioc\R\library --no-vignettes --timings piano_2.23.0.tar.gz StartedAt: 2025-02-17 03:54:04 -0500 (Mon, 17 Feb 2025) EndedAt: 2025-02-17 03:56:30 -0500 (Mon, 17 Feb 2025) EllapsedTime: 145.3 seconds RetCode: 0 Status: OK CheckDir: piano.Rcheck Warnings: 0