Package: piano Version: 2.25.0 Command: /home/biocbuild/bbs-3.22-bioc/R/bin/R CMD INSTALL piano StartedAt: 2025-10-28 15:13:01 -0400 (Tue, 28 Oct 2025) EndedAt: 2025-10-28 15:13:15 -0400 (Tue, 28 Oct 2025) EllapsedTime: 14.5 seconds RetCode: 0 Status: OK