Package: phyloseq Version: 1.53.0 Command: rm -rf phyloseq.buildbin-libdir && mkdir phyloseq.buildbin-libdir && F:\biocbuild\bbs-3.22-bioc\R\bin\R.exe CMD INSTALL --build --library=phyloseq.buildbin-libdir phyloseq_1.53.0.tar.gz StartedAt: 2025-08-15 10:57:27 -0400 (Fri, 15 Aug 2025) EndedAt: 2025-08-15 10:59:33 -0400 (Fri, 15 Aug 2025) EllapsedTime: 125.9 seconds RetCode: 0 Status: OK PackageFile: phyloseq_1.53.0.zip PackageFileSize: 4.367 MiB