Package: phyloseq Version: 1.53.0 Command: /Library/Frameworks/R.framework/Resources/bin/R CMD INSTALL phyloseq StartedAt: 2025-05-06 15:16:10 -0400 (Tue, 06 May 2025) EndedAt: 2025-05-06 15:16:49 -0400 (Tue, 06 May 2025) EllapsedTime: 38.8 seconds RetCode: 0 Status: OK